BEGIN:VCALENDAR
VERSION:2.0
PRODID:-//wp-events-plugin.com//7.2.3.1//EN
TZID:Europe/Berlin
X-WR-TIMEZONE:Europe/Berlin
BEGIN:VEVENT
UID:54@krummhardt.de
DTSTART;TZID=Europe/Berlin:20230507T100000
DTEND;TZID=Europe/Berlin:20230507T190000
DTSTAMP:20230103T173139Z
URL:https://krummhardt.de/events/bouleturnier-boulebahn-krummhardt/
SUMMARY:Bouleturnier - Boulebahn Krummhardt
DESCRIPTION:
END:VEVENT
BEGIN:VTIMEZONE
TZID:Europe/Berlin
X-LIC-LOCATION:Europe/Berlin
BEGIN:DAYLIGHT
DTSTART:20230326T030000
TZOFFSETFROM:+0100
TZOFFSETTO:+0200
TZNAME:CEST
END:DAYLIGHT
END:VTIMEZONE
END:VCALENDAR