BEGIN:VCALENDAR
VERSION:2.0
PRODID:-//wp-events-plugin.com//7.2.3.1//EN
TZID:Europe/Berlin
X-WR-TIMEZONE:Europe/Berlin
BEGIN:VEVENT
UID:72@krummhardt.de
DTSTART;TZID=Europe/Berlin:20230523T140000
DTEND;TZID=Europe/Berlin:20230523T180000
DTSTAMP:20230509T072433Z
URL:https://krummhardt.de/events/fuehrung-im-kraeuterhaus-st-bernhard-bad-
 ditzenbach/
SUMMARY:Führung im Kräuterhaus St. Bernhard\, Bad Ditzenbach
DESCRIPTION:
END:VEVENT
BEGIN:VTIMEZONE
TZID:Europe/Berlin
X-LIC-LOCATION:Europe/Berlin
BEGIN:DAYLIGHT
DTSTART:20230326T030000
TZOFFSETFROM:+0100
TZOFFSETTO:+0200
TZNAME:CEST
END:DAYLIGHT
END:VTIMEZONE
END:VCALENDAR