BEGIN:VCALENDAR
VERSION:2.0
PRODID:-//wp-events-plugin.com//7.2.3.1//EN
TZID:Europe/Berlin
X-WR-TIMEZONE:Europe/Berlin
BEGIN:VEVENT
UID:42@krummhardt.de
DTSTART;TZID=Europe/Berlin:20220818T170000
DTEND;TZID=Europe/Berlin:20220822T170000
DTSTAMP:20220811T073949Z
URL:https://krummhardt.de/events/goldgelb-festival-im-sonnenblumenfeld/
SUMMARY:GOLDGELB-Festival (siehe unter goldgelb.eu)
DESCRIPTION:
ATTACH;FMTTYPE=image/jpeg:https://krummhardt.de/wp-content/uploads/2022/04
 /Goldgelb-Logo-oBG.png
END:VEVENT
BEGIN:VTIMEZONE
TZID:Europe/Berlin
X-LIC-LOCATION:Europe/Berlin
BEGIN:DAYLIGHT
DTSTART:20220327T030000
TZOFFSETFROM:+0100
TZOFFSETTO:+0200
TZNAME:CEST
END:DAYLIGHT
END:VTIMEZONE
END:VCALENDAR