BEGIN:VCALENDAR
VERSION:2.0
PRODID:-//wp-events-plugin.com//7.2.3.1//EN
TZID:Europe/Berlin
X-WR-TIMEZONE:Europe/Berlin
BEGIN:VEVENT
UID:25@krummhardt.de
DTSTART;TZID=Europe/Berlin:20210921T193000
DTEND;TZID=Europe/Berlin:20210921T193000
DTSTAMP:20210828T075541Z
URL:https://krummhardt.de/events/hauptversammlung-am-21-september/
SUMMARY:Hauptversammlung am 21. September\, Schurwaldhalle
DESCRIPTION:Schurwaldhalle\, Aichwald-Schanbach\, 19.30 Uhr
END:VEVENT
BEGIN:VTIMEZONE
TZID:Europe/Berlin
X-LIC-LOCATION:Europe/Berlin
BEGIN:DAYLIGHT
DTSTART:20210328T030000
TZOFFSETFROM:+0100
TZOFFSETTO:+0200
TZNAME:CEST
END:DAYLIGHT
END:VTIMEZONE
END:VCALENDAR