BEGIN:VCALENDAR
VERSION:2.0
PRODID:-//wp-events-plugin.com//7.2.3.1//EN
TZID:Europe/Berlin
X-WR-TIMEZONE:Europe/Berlin
BEGIN:VEVENT
UID:24@krummhardt.de
DTSTART;TZID=Europe/Berlin:20201023T163000
DTEND;TZID=Europe/Berlin:20201023T163000
DTSTAMP:20201019T163103Z
URL:https://krummhardt.de/events/kuerbisschnitzen-am-23-oktober/
SUMMARY:Kürbisschnitzen am 23. Oktober ist abgesagt !!!
DESCRIPTION:
END:VEVENT
BEGIN:VTIMEZONE
TZID:Europe/Berlin
X-LIC-LOCATION:Europe/Berlin
BEGIN:DAYLIGHT
DTSTART:20200329T030000
TZOFFSETFROM:+0100
TZOFFSETTO:+0200
TZNAME:CEST
END:DAYLIGHT
END:VTIMEZONE
END:VCALENDAR