BEGIN:VCALENDAR
VERSION:2.0
PRODID:-//wp-events-plugin.com//7.2.3.1//EN
TZID:Europe/Berlin
X-WR-TIMEZONE:Europe/Berlin
BEGIN:VEVENT
UID:81@krummhardt.de
DTSTART;TZID=Europe/Berlin:20231030T163000
DTEND;TZID=Europe/Berlin:20231030T180000
DTSTAMP:20231005T122152Z
URL:https://krummhardt.de/events/kuerbisschnitzen-fuer-kinder-beim-neuwies
 hof-fetzer/
SUMMARY:Kürbisschnitzen für Kinder beim Neuwieshof Fetzer
DESCRIPTION:Die Veranstaltung ist bereits ausgebucht\n
END:VEVENT
BEGIN:VTIMEZONE
TZID:Europe/Berlin
X-LIC-LOCATION:Europe/Berlin
BEGIN:STANDARD
DTSTART:20231029T020000
TZOFFSETFROM:+0200
TZOFFSETTO:+0100
TZNAME:CET
END:STANDARD
END:VTIMEZONE
END:VCALENDAR