BEGIN:VCALENDAR
VERSION:2.0
PRODID:-//wp-events-plugin.com//7.2.3.1//EN
TZID:Europe/Berlin
X-WR-TIMEZONE:Europe/Berlin
BEGIN:VEVENT
UID:45@krummhardt.de
DTSTART;TZID=Europe/Berlin:20221028T163000
DTEND;TZID=Europe/Berlin:20221028T183000
DTSTAMP:20220909T091324Z
URL:https://krummhardt.de/events/kuerbisschnitzen-fuer-kinder-neuwieshof/
SUMMARY:Kürbisschnitzen für Kinder
DESCRIPTION:In der Maschinenhalle des Neuwieshof Krummhardt.\nIm Anschluss 
 an das Schnitzen spukt der Geisterzug durch Krummhardt\nNur mit Anmeldung 
 unter: Kinderprogramm-kvk@freenet.de
END:VEVENT
BEGIN:VTIMEZONE
TZID:Europe/Berlin
X-LIC-LOCATION:Europe/Berlin
BEGIN:DAYLIGHT
DTSTART:20220327T030000
TZOFFSETFROM:+0100
TZOFFSETTO:+0200
TZNAME:CEST
END:DAYLIGHT
END:VTIMEZONE
END:VCALENDAR