BEGIN:VCALENDAR
VERSION:2.0
PRODID:-//wp-events-plugin.com//7.2.3.1//EN
TZID:Europe/Berlin
X-WR-TIMEZONE:Europe/Berlin
BEGIN:VEVENT
UID:29@krummhardt.de
DTSTART;TZID=Europe/Berlin:20211029T163000
DTEND;TZID=Europe/Berlin:20211029T163000
DTSTAMP:20210922T141636Z
URL:https://krummhardt.de/events/kuerbisschnitzen-fuer-kinder/
SUMMARY:Kürbisschnitzen für Kinder - Maschinenhalle Neuwieshof Fetzer
DESCRIPTION:
END:VEVENT
BEGIN:VTIMEZONE
TZID:Europe/Berlin
X-LIC-LOCATION:Europe/Berlin
BEGIN:DAYLIGHT
DTSTART:20210328T030000
TZOFFSETFROM:+0100
TZOFFSETTO:+0200
TZNAME:CEST
END:DAYLIGHT
END:VTIMEZONE
END:VCALENDAR