BEGIN:VCALENDAR
VERSION:2.0
PRODID:-//wp-events-plugin.com//7.2.3.1//EN
TZID:Europe/Berlin
X-WR-TIMEZONE:Europe/Berlin
BEGIN:VEVENT
UID:3@krummhardt.de
DTSTART;TZID=Europe/Berlin:20200516T000000
DTEND;TZID=Europe/Berlin:20200516T000000
DTSTAMP:20200214T183639Z
URL:https://krummhardt.de/events/kultur-an-der-linde/
SUMMARY:Kultur an der Linde
DESCRIPTION:
ATTACH;FMTTYPE=image/jpeg:https://krummhardt.de/wp-content/uploads/2019/11
 /DSCN0389.jpg
LOCATION:An der Linde\, Lindenstr.\, Aichwald - Krummhardt\, 73773\, Deutsc
 hland
X-APPLE-STRUCTURED-LOCATION;VALUE=URI;X-ADDRESS=Lindenstr.\, Aichwald - Kru
 mmhardt\, 73773\, Deutschland;X-APPLE-RADIUS=100;X-TITLE=An der Linde:geo:
 0,0
END:VEVENT
BEGIN:VTIMEZONE
TZID:Europe/Berlin
X-LIC-LOCATION:Europe/Berlin
BEGIN:DAYLIGHT
DTSTART:20200329T030000
TZOFFSETFROM:+0100
TZOFFSETTO:+0200
TZNAME:CEST
END:DAYLIGHT
END:VTIMEZONE
END:VCALENDAR