BEGIN:VCALENDAR
VERSION:2.0
PRODID:-//wp-events-plugin.com//7.2.3.1//EN
TZID:Europe/Berlin
X-WR-TIMEZONE:Europe/Berlin
BEGIN:VEVENT
UID:1@krummhardt.de
DTSTART;TZID=Europe/Berlin:20200313T190000
DTEND;TZID=Europe/Berlin:20200313T190000
DTSTAMP:20200313T094129Z
URL:https://krummhardt.de/events/mitglieder-versammlung-2020/
SUMMARY:Mitglieder Versammlung 2020 fällt aus
DESCRIPTION:[et_pb_section fb_built="1" admin_label="section" _builder_vers
 ion="3.22" _i="0" _address="0"][et_pb_row admin_label="row" _builder_versi
 on="3.25" background_size="initial" background_position="top_left" backgro
 und_repeat="repeat" _i="0" _address="0.0"][et_pb_column type="4_4" _builde
 r_version="3.25" custom_padding="|||" _i="0" _address="0.0.0" custom_paddi
 ng__hover="|||"][/et_pb_column][/et_pb_row][/et_pb_section]
ATTACH;FMTTYPE=image/jpeg:https://krummhardt.de/wp-content/uploads/2020/02
 /HV-600.jpg
LOCATION:Krummhardter Besa\, Lindenstr .24\, Aichwald - Krummhardt\, 73773\
 , Deutschland
X-APPLE-STRUCTURED-LOCATION;VALUE=URI;X-ADDRESS=Lindenstr .24\, Aichwald - 
 Krummhardt\, 73773\, Deutschland;X-APPLE-RADIUS=100;X-TITLE=Krummhardter B
 esa:geo:0,0
END:VEVENT
BEGIN:VTIMEZONE
TZID:Europe/Berlin
X-LIC-LOCATION:Europe/Berlin
BEGIN:STANDARD
DTSTART:20191027T020000
TZOFFSETFROM:+0200
TZOFFSETTO:+0100
TZNAME:CET
END:STANDARD
END:VTIMEZONE
END:VCALENDAR