BEGIN:VCALENDAR
VERSION:2.0
PRODID:-//wp-events-plugin.com//7.2.3.1//EN
TZID:Europe/Berlin
X-WR-TIMEZONE:Europe/Berlin
BEGIN:VEVENT
UID:55@krummhardt.de
DTSTART;TZID=Europe/Berlin:20230322T190000
DTEND;TZID=Europe/Berlin:20230322T220000
DTSTAMP:20230103T173222Z
URL:https://krummhardt.de/events/mitgliederversammlung-schurwaldhalle-scha
 nbach-2/
SUMMARY:Mitgliederversammlung - Schurwaldhalle Schanbach
DESCRIPTION:
END:VEVENT
BEGIN:VTIMEZONE
TZID:Europe/Berlin
X-LIC-LOCATION:Europe/Berlin
BEGIN:STANDARD
DTSTART:20221030T020000
TZOFFSETFROM:+0200
TZOFFSETTO:+0100
TZNAME:CET
END:STANDARD
END:VTIMEZONE
END:VCALENDAR