BEGIN:VCALENDAR
VERSION:2.0
PRODID:-//wp-events-plugin.com//7.2.3.1//EN
TZID:Europe/Berlin
X-WR-TIMEZONE:Europe/Berlin
BEGIN:VEVENT
UID:37@krummhardt.de
DTSTART;TZID=Europe/Berlin:20220405T193000
DTEND;TZID=Europe/Berlin:20220405T193000
DTSTAMP:20220218T162122Z
URL:https://krummhardt.de/events/mitgliederversammlung-schurwaldhalle-scha
 nbach/
SUMMARY:Mitgliederversammlung - Schurwaldhalle Schanbach
DESCRIPTION:[et_pb_section fb_built="1" admin_label="section" _builder_vers
 ion="3.22"][et_pb_row admin_label="row" _builder_version="3.25" background
 _size="initial" background_position="top_left" background_repeat="repeat"]
 [et_pb_column type="4_4" _builder_version="3.25" custom_padding="|||" cust
 om_padding__hover="|||"][/et_pb_column][/et_pb_row][/et_pb_section]
END:VEVENT
BEGIN:VTIMEZONE
TZID:Europe/Berlin
X-LIC-LOCATION:Europe/Berlin
BEGIN:DAYLIGHT
DTSTART:20220327T030000
TZOFFSETFROM:+0100
TZOFFSETTO:+0200
TZNAME:CEST
END:DAYLIGHT
END:VTIMEZONE
END:VCALENDAR