BEGIN:VCALENDAR
VERSION:2.0
PRODID:-//wp-events-plugin.com//7.2.3.1//EN
TZID:Europe/Berlin
X-WR-TIMEZONE:Europe/Berlin
BEGIN:VEVENT
UID:79@krummhardt.de
DTSTART;TZID=Europe/Berlin:20231021T200000
DTEND;TZID=Europe/Berlin:20231021T220000
DTSTAMP:20230714T090414Z
URL:https://krummhardt.de/events/schwaebisches-kabarett-mit-leibssle/
SUMMARY:Schwäbisches Kabarett mit "Leibssle"
DESCRIPTION:Kartenvorverkauf voraussichtlich ab Mitte August 2023
END:VEVENT
BEGIN:VTIMEZONE
TZID:Europe/Berlin
X-LIC-LOCATION:Europe/Berlin
BEGIN:DAYLIGHT
DTSTART:20230326T030000
TZOFFSETFROM:+0100
TZOFFSETTO:+0200
TZNAME:CEST
END:DAYLIGHT
END:VTIMEZONE
END:VCALENDAR