BEGIN:VCALENDAR
VERSION:2.0
PRODID:-//wp-events-plugin.com//7.2.3.1//EN
TZID:Europe/Berlin
X-WR-TIMEZONE:Europe/Berlin
BEGIN:VEVENT
UID:77@krummhardt.de
DTSTART;TZID=Europe/Berlin:20230726T133000
DTEND;TZID=Europe/Berlin:20230726T170000
DTSTAMP:20230710T141750Z
URL:https://krummhardt.de/events/stadtfuehrung-in-plochingen-fuer-leute-mi
 t-tagesfreizeit/
SUMMARY:Stadtführung in Plochingen für Leute mit Tagesfreizeit
DESCRIPTION:13.30 Uhr Treffpunkt Plochingeninfo\, Marktstraße 36.\nAnmeldu
 ng unter anita@kulturverein-krummhardt.de\n\n&nbsp\;
END:VEVENT
BEGIN:VTIMEZONE
TZID:Europe/Berlin
X-LIC-LOCATION:Europe/Berlin
BEGIN:DAYLIGHT
DTSTART:20230326T030000
TZOFFSETFROM:+0100
TZOFFSETTO:+0200
TZNAME:CEST
END:DAYLIGHT
END:VTIMEZONE
END:VCALENDAR