BEGIN:VCALENDAR
VERSION:2.0
PRODID:-//wp-events-plugin.com//7.2.3.1//EN
TZID:Europe/Berlin
X-WR-TIMEZONE:Europe/Berlin
BEGIN:VEVENT
UID:7@krummhardt.de
DTSTART;TZID=Europe/Berlin:20200401T190000
DTEND;TZID=Europe/Berlin:20201231T190000
DTSTAMP:20200214T190308Z
URL:https://krummhardt.de/event-recurring/vereinstreff-3/
SUMMARY:Vereinstreff
DESCRIPTION:
ATTACH;FMTTYPE=image/jpeg:https://krummhardt.de/wp-content/uploads/2020/02
 /Gaststätte20zum20Liederkranz_Homepage.jpg
LOCATION:Landgasthof Hirsch\, Hauptstr. 14\, Aichwald-Schanbach\, 73773\, D
 eutschland
X-APPLE-STRUCTURED-LOCATION;VALUE=URI;X-ADDRESS=Hauptstr. 14\, Aichwald-Sch
 anbach\, 73773\, Deutschland;X-APPLE-RADIUS=100;X-TITLE=Landgasthof Hirsch
 :geo:0,0
END:VEVENT
BEGIN:VTIMEZONE
TZID:Europe/Berlin
X-LIC-LOCATION:Europe/Berlin
BEGIN:DAYLIGHT
DTSTART:20200329T030000
TZOFFSETFROM:+0100
TZOFFSETTO:+0200
TZNAME:CEST
END:DAYLIGHT
BEGIN:STANDARD
DTSTART:20201025T020000
TZOFFSETFROM:+0200
TZOFFSETTO:+0100
TZNAME:CET
END:STANDARD
END:VTIMEZONE
END:VCALENDAR