BEGIN:VCALENDAR
VERSION:2.0
PRODID:-//wp-events-plugin.com//7.2.3.1//EN
TZID:Europe/Berlin
X-WR-TIMEZONE:Europe/Berlin
BEGIN:VEVENT
UID:26@krummhardt.de
DTSTART;TZID=Europe/Berlin:20211006T190000
DTEND;TZID=Europe/Berlin:20211006T190000
DTSTAMP:20210828T075355Z
URL:https://krummhardt.de/events/vereinstreff-7/
SUMMARY:Vereinstreff in der "Linde" in Aichschieß
DESCRIPTION:"Linde" in Aichschieß
END:VEVENT
BEGIN:VTIMEZONE
TZID:Europe/Berlin
X-LIC-LOCATION:Europe/Berlin
BEGIN:DAYLIGHT
DTSTART:20210328T030000
TZOFFSETFROM:+0100
TZOFFSETTO:+0200
TZNAME:CEST
END:DAYLIGHT
END:VTIMEZONE
END:VCALENDAR