BEGIN:VCALENDAR
VERSION:2.0
PRODID:-//wp-events-plugin.com//7.2.3.1//EN
TZID:Europe/Berlin
X-WR-TIMEZONE:Europe/Berlin
BEGIN:VEVENT
UID:73@krummhardt.de
DTSTART;TZID=Europe/Berlin:20230802T190000
DTEND;TZID=Europe/Berlin:20230802T220000
DTSTAMP:20230607T122256Z
URL:https://krummhardt.de/events/vereinstreff-asv-vereinsheim-in-schanbach
 /
SUMMARY:Vereinstreff im "ASV Vereinsheim" in Schanbach
DESCRIPTION:
END:VEVENT
BEGIN:VTIMEZONE
TZID:Europe/Berlin
X-LIC-LOCATION:Europe/Berlin
BEGIN:DAYLIGHT
DTSTART:20230326T030000
TZOFFSETFROM:+0100
TZOFFSETTO:+0200
TZNAME:CEST
END:DAYLIGHT
END:VTIMEZONE
END:VCALENDAR