BEGIN:VCALENDAR
VERSION:2.0
PRODID:-//wp-events-plugin.com//7.2.3.1//EN
TZID:Europe/Berlin
X-WR-TIMEZONE:Europe/Berlin
BEGIN:VEVENT
UID:31@krummhardt.de
DTSTART;TZID=Europe/Berlin:20220202T190000
DTEND;TZID=Europe/Berlin:20220202T190000
DTSTAMP:20211115T162039Z
URL:https://krummhardt.de/events/vereinstreff-im-ochsen-in-aichelberg-2/
SUMMARY:Vereinstreff im "Ochsen" in Aichelberg
DESCRIPTION:
END:VEVENT
BEGIN:VTIMEZONE
TZID:Europe/Berlin
X-LIC-LOCATION:Europe/Berlin
BEGIN:STANDARD
DTSTART:20211031T020000
TZOFFSETFROM:+0200
TZOFFSETTO:+0100
TZNAME:CET
END:STANDARD
END:VTIMEZONE
END:VCALENDAR