BEGIN:VCALENDAR
VERSION:2.0
PRODID:-//wp-events-plugin.com//7.2.3.1//EN
TZID:Europe/Berlin
X-WR-TIMEZONE:Europe/Berlin
BEGIN:VEVENT
UID:75@krummhardt.de
DTSTART;TZID=Europe/Berlin:20231005T190000
DTEND;TZID=Europe/Berlin:20231005T220000
DTSTAMP:20230607T122148Z
URL:https://krummhardt.de/events/vereinstreff-im-waldhorn-in-lobenrot-2/
SUMMARY:Vereinstreff im "Waldhorn" in Lobenrot
DESCRIPTION:
END:VEVENT
BEGIN:VTIMEZONE
TZID:Europe/Berlin
X-LIC-LOCATION:Europe/Berlin
BEGIN:DAYLIGHT
DTSTART:20230326T030000
TZOFFSETFROM:+0100
TZOFFSETTO:+0200
TZNAME:CEST
END:DAYLIGHT
END:VTIMEZONE
END:VCALENDAR