BEGIN:VCALENDAR
VERSION:2.0
PRODID:-//wp-events-plugin.com//7.2.3.1//EN
TZID:Europe/Berlin
X-WR-TIMEZONE:Europe/Berlin
BEGIN:VEVENT
UID:48@krummhardt.de
DTSTART;TZID=Europe/Berlin:20221201T190000
DTEND;TZID=Europe/Berlin:20221201T213000
DTSTAMP:20221031T125651Z
URL:https://krummhardt.de/events/vereinstreff-waldhorn-lobenrot-3/
SUMMARY:Vereinstreff - "Waldhorn" Lobenrot
DESCRIPTION:Achtung! Erster Donnerstag im Monat!\nGemütliches Beisammensei
 n.
END:VEVENT
BEGIN:VTIMEZONE
TZID:Europe/Berlin
X-LIC-LOCATION:Europe/Berlin
BEGIN:STANDARD
DTSTART:20221030T020000
TZOFFSETFROM:+0200
TZOFFSETTO:+0100
TZNAME:CET
END:STANDARD
END:VTIMEZONE
END:VCALENDAR