BEGIN:VCALENDAR
VERSION:2.0
PRODID:-//wp-events-plugin.com//7.2.3.1//EN
TZID:Europe/Berlin
X-WR-TIMEZONE:Europe/Berlin
BEGIN:VEVENT
UID:5@krummhardt.de
DTSTART;TZID=Europe/Berlin:20200304T190000
DTEND;TZID=Europe/Berlin:20200304T190000
DTSTAMP:20200214T190226Z
URL:https://krummhardt.de/events/vereinstreff/
SUMMARY:Vereinstreff
DESCRIPTION:
LOCATION:Roessle\, Alte Dorfstr. 45\, Aichwald - Aichschiess\, 73773\, Deut
 schland
X-APPLE-STRUCTURED-LOCATION;VALUE=URI;X-ADDRESS=Alte Dorfstr. 45\, Aichwald
  - Aichschiess\, 73773\, Deutschland;X-APPLE-RADIUS=100;X-TITLE=Roessle:ge
 o:0,0
END:VEVENT
BEGIN:VTIMEZONE
TZID:Europe/Berlin
X-LIC-LOCATION:Europe/Berlin
BEGIN:STANDARD
DTSTART:20191027T020000
TZOFFSETFROM:+0200
TZOFFSETTO:+0100
TZNAME:CET
END:STANDARD
END:VTIMEZONE
END:VCALENDAR